BEGIN:VCALENDAR
VERSION:2.0
PRODID:-//Anna-Marie Abell - ECPv4.6.25//NONSGML v1.0//EN
CALSCALE:GREGORIAN
METHOD:PUBLISH
X-WR-CALNAME:Anna-Marie Abell
X-ORIGINAL-URL:http://writtenbyanna.com
X-WR-CALDESC:Events for Anna-Marie Abell
BEGIN:VEVENT
DTSTART;TZID=UTC+0:20180127T100000
DTEND;TZID=UTC+0:20180127T120000
DTSTAMP:20260419T181651
CREATED:20170811T021744Z
LAST-MODIFIED:20180127T085655Z
UID:1060-1517047200-1517054400@writtenbyanna.com
SUMMARY:Speaking Engagement - Publishers and Writers of San Diego
DESCRIPTION:Marketing Basics for Authors \nOkay\, so you put your book on Amazon. Now what? Why isn’t it selling? Placing your book on Amazon is like throwing a needle into a haystack—a really big haystack—and expecting people to find it. If you want people to discover your book\, you need to put a giant spotlight on it\, and that means taking the time to market it. The good news is that marketing your book can be fun! \nIn this presentation\, I will walk us through the marketing basics checklist. This is the bare minimum you need to do as an author or publisher to market your book. In this day in age\, with social media taking over the world\, authors must adapt and stay current\, and more importantly\, build a social fan base. This presentation will cover different ways to accomplish this. I will also talk about some unique marketing opportunities for authors. \n
URL:http://writtenbyanna.com/event/speaking-engagement-publishers-and-writers-of-san-diego/
LOCATION:Encinitas Community and Senior Center\, 1140 Oakcrest Park Dr\, Encinitas\, 92024
END:VEVENT
END:VCALENDAR