BEGIN:VCALENDAR
VERSION:2.0
PRODID:-//Anna-Marie Abell - ECPv4.6.25//NONSGML v1.0//EN
CALSCALE:GREGORIAN
METHOD:PUBLISH
X-WR-CALNAME:Anna-Marie Abell
X-ORIGINAL-URL:http://writtenbyanna.com
X-WR-CALDESC:Events for Anna-Marie Abell
BEGIN:VEVENT
DTSTART;TZID=UTC+0:20180825T100000
DTEND;TZID=UTC+0:20180825T170000
DTSTAMP:20260420T005845
CREATED:20180624T044949Z
LAST-MODIFIED:20180716T043137Z
UID:1640-1535191200-1535216400@writtenbyanna.com
SUMMARY:San Diego Festival of Books
DESCRIPTION:[vc_row css_animation=”” row_type=”row” use_row_as_full_screen_section=”no” type=”full_width” angled_section=”no” text_align=”left” background_image_as_pattern=”without_pattern”][vc_column][vc_column_text]Celebrate San Diego’s vibrant reading community and join thousands of local readers\, writers\, and word lovers at the San Diego Festival of Books. \nLast year\, more than ten-thousand people from all over San Diego came out for this exciting event. This year it’s projected to double in size! The event will feature an Author Alley\, a Children’s Pavilion\, and Children’s Reading Station area. \n\nI’ll be there in the Author Alley if you want to stop by and say hi or bring me wine and cheese. 😬🍷🧀👽\n\n[/vc_column_text][/vc_column][/vc_row][vc_row css_animation=”” row_type=”row” use_row_as_full_screen_section=”no” type=”full_width” angled_section=”no” text_align=”left” background_image_as_pattern=”without_pattern”][vc_column][vc_empty_space][/vc_column][/vc_row] \n
URL:http://writtenbyanna.com/event/san-diego-festival-of-books/
LOCATION:Liberty Station\, Point Loma\, CA\, 92106\, United States
ATTACH;FMTTYPE=image/jpeg:http://writtenbyanna.com/wp-content/uploads/SDBookFest.jpg
END:VEVENT
END:VCALENDAR