BEGIN:VCALENDAR
VERSION:2.0
PRODID:-//Anna-Marie Abell - ECPv4.6.25//NONSGML v1.0//EN
CALSCALE:GREGORIAN
METHOD:PUBLISH
X-WR-CALNAME:Anna-Marie Abell
X-ORIGINAL-URL:http://writtenbyanna.com
X-WR-CALDESC:Events for Anna-Marie Abell
BEGIN:VEVENT
DTSTART;TZID=UTC+0:20180714T100000
DTEND;TZID=UTC+0:20180714T120000
DTSTAMP:20260419T232111
CREATED:20180624T044205Z
LAST-MODIFIED:20180624T044411Z
UID:1634-1531562400-1531569600@writtenbyanna.com
SUMMARY:Marketing Basics for Authors
DESCRIPTION:Okay\, so you put your book on Amazon. Now what? Why isn’t it selling? Placing your book on Amazon is like throwing a needle into a haystack—a really big haystack—and expecting people to find it. If you want people to discover your book\, you need to put a giant spotlight on it\, and that means taking the time to market it. The good news is that marketing your book can be fun! \n
URL:http://writtenbyanna.com/event/marketing-basics-for-authors/
LOCATION:Community Church at Jess Ranch\, 11537 Apple Valley Rd\, Apple Valley\, CA\, 92308\, United States
END:VEVENT
END:VCALENDAR