BEGIN:VCALENDAR
VERSION:2.0
PRODID:-//Anna-Marie Abell - ECPv4.6.25//NONSGML v1.0//EN
CALSCALE:GREGORIAN
METHOD:PUBLISH
X-WR-CALNAME:Anna-Marie Abell
X-ORIGINAL-URL:http://writtenbyanna.com
X-WR-CALDESC:Events for Anna-Marie Abell
BEGIN:VEVENT
DTSTART;TZID=UTC+0:20180126T190000
DTEND;TZID=UTC+0:20180126T220000
DTSTAMP:20260419T164347
CREATED:20180103T073720Z
LAST-MODIFIED:20180117T043605Z
UID:1500-1516993200-1517004000@writtenbyanna.com
SUMMARY:Local Author Showcase - San Diego County Library
DESCRIPTION:Each year the city of San Diego showcases local authors during this fun event. Join me for the reception—meet local authors and discover new books @ the Joan Λ Irwin Jacobs Common in the Central Library. This library hosts views of the ocean\, an incredible art museum\, and stunning architecture. Even if you don’t come for me\, come for the experience. LOL. Okay\, that was cheesy. But I am sticking with it. \n
URL:http://writtenbyanna.com/event/local-author-showcase-san-diego-county-library/
END:VEVENT
END:VCALENDAR