BEGIN:VCALENDAR
VERSION:2.0
PRODID:-//Anna-Marie Abell - ECPv4.6.25//NONSGML v1.0//EN
CALSCALE:GREGORIAN
METHOD:PUBLISH
X-WR-CALNAME:Anna-Marie Abell
X-ORIGINAL-URL:http://writtenbyanna.com
X-WR-CALDESC:Events for Anna-Marie Abell
BEGIN:VEVENT
DTSTART;TZID=UTC+0:20181020T100000
DTEND;TZID=UTC+0:20181020T170000
DTSTAMP:20260420T025614
CREATED:20180624T045656Z
LAST-MODIFIED:20180716T050322Z
UID:1644-1540029600-1540054800@writtenbyanna.com
SUMMARY:Las Vegas Book Festival
DESCRIPTION:[vc_row css_animation=”” row_type=”row” use_row_as_full_screen_section=”no” type=”full_width” angled_section=”no” text_align=”left” background_image_as_pattern=”without_pattern”][vc_column][vc_column_text]Join me for the biggest book festival Sin City has to offer. Don’t worry\, I will keep things PG (maybe). I will be hosting a booth with fellow author\, Laurie Jameson. Our booth is called “Genre Benders\,” so stop by and join us for some serious fun![/vc_column_text][vc_single_image image=”1659″ img_size=”medium” qode_css_animation=””][/vc_column][/vc_row][vc_row css_animation=”” row_type=”row” use_row_as_full_screen_section=”no” type=”full_width” angled_section=”no” text_align=”left” background_image_as_pattern=”without_pattern”][vc_column][vc_empty_space][/vc_column][/vc_row] \n
URL:http://writtenbyanna.com/event/las-vegas-book-festival/
LOCATION:Historic 5th Street School\, 401 S. 4th Street\, Las Vegas\, NV\, 89101\, United States
ATTACH;FMTTYPE=image/jpeg:http://writtenbyanna.com/wp-content/uploads/las-vegas-logo.jpg
END:VEVENT
END:VCALENDAR