BEGIN:VCALENDAR
VERSION:2.0
PRODID:-//Anna-Marie Abell - ECPv4.6.25//NONSGML v1.0//EN
CALSCALE:GREGORIAN
METHOD:PUBLISH
X-WR-CALNAME:Anna-Marie Abell
X-ORIGINAL-URL:http://writtenbyanna.com
X-WR-CALDESC:Events for Anna-Marie Abell
BEGIN:VEVENT
DTSTART;TZID=UTC+0:20171014T100000
DTEND;TZID=UTC+0:20171014T140000
DTSTAMP:20260419T145834
CREATED:20170815T175114Z
LAST-MODIFIED:20170828T001611Z
UID:1079-1507975200-1507989600@writtenbyanna.com
SUMMARY:Indie Author Day
DESCRIPTION:Meet local authors and industry professionals. Learn about book publishing. Attend the book fair at Dove Library’s open courtyard and participate in a series of panel discussions on publishing books in fiction\, nonfiction\, memoirs and more! \n
URL:http://writtenbyanna.com/event/indie-author-day/
LOCATION:Carlsbad Dove Library\, 1775 Dove Ln\, Carlsbad\, CA\, 92011\, United States
END:VEVENT
END:VCALENDAR