BEGIN:VCALENDAR
VERSION:2.0
PRODID:-//Anna-Marie Abell - ECPv4.6.25//NONSGML v1.0//EN
CALSCALE:GREGORIAN
METHOD:PUBLISH
X-WR-CALNAME:Anna-Marie Abell
X-ORIGINAL-URL:http://writtenbyanna.com
X-WR-CALDESC:Events for Anna-Marie Abell
BEGIN:VEVENT
DTSTART;VALUE=DATE:20190531
DTEND;VALUE=DATE:20190604
DTSTAMP:20260420T081920
CREATED:20190209T055748Z
LAST-MODIFIED:20190209T055748Z
UID:1722-1559260800-1559606399@writtenbyanna.com
SUMMARY:Contact in the Desert 2019
DESCRIPTION:This has become one of may favorite UFO conferences. All the cool people go so that means it is a PACKED event. Get your tickets now before they sell out! If you decide to go and want to know what speakers to check out\, use the contact form to reach out to me and I will tell you which ones you shouldn’t miss. \n
URL:http://writtenbyanna.com/event/contact-in-the-desert-2019/
LOCATION:Renaissance Indian Wells Resort & Spa!\, 44400 Indian Wells Ln.\, Indian Wells\, CA\, United States
ATTACH;FMTTYPE=image/jpeg:http://writtenbyanna.com/wp-content/uploads/contactinthedesert.jpg
END:VEVENT
END:VCALENDAR