BEGIN:VCALENDAR
VERSION:2.0
PRODID:-//Anna-Marie Abell - ECPv4.6.25//NONSGML v1.0//EN
CALSCALE:GREGORIAN
METHOD:PUBLISH
X-WR-CALNAME:Anna-Marie Abell
X-ORIGINAL-URL:http://writtenbyanna.com
X-WR-CALDESC:Events for Anna-Marie Abell
BEGIN:VEVENT
DTSTART;TZID=UTC+0:20170923T120000
DTEND;TZID=UTC+0:20170923T150000
DTSTAMP:20260419T120613
CREATED:20170811T015208Z
LAST-MODIFIED:20170830T041119Z
UID:1052-1506168000-1506178800@writtenbyanna.com
SUMMARY:Book Signing Event at Mysterious Galaxy
DESCRIPTION:Join myself and several local San Diego authors for a meet and greet and book signing at Mysterious Galaxy bookstore. It is my first official signing as an author! \n
URL:http://writtenbyanna.com/event/book-signing-event-at-mysterious-galaxy/
LOCATION:Mysterious Galaxy\, 5943 Balboa Ave #100\, San Diego\, CA\, 92111\, United States
END:VEVENT
END:VCALENDAR